BEGIN:VCALENDAR
VERSION:2.0
PRODID:-//AAW Pro - ECPv6.15.18//NONSGML v1.0//EN
CALSCALE:GREGORIAN
METHOD:PUBLISH
X-ORIGINAL-URL:https://aawpro.com
X-WR-CALDESC:Events for AAW Pro
REFRESH-INTERVAL;VALUE=DURATION:PT1H
X-Robots-Tag:noindex
X-PUBLISHED-TTL:PT1H
BEGIN:VTIMEZONE
TZID:UTC
BEGIN:STANDARD
TZOFFSETFROM:+0000
TZOFFSETTO:+0000
TZNAME:UTC
DTSTART:20240101T000000
END:STANDARD
END:VTIMEZONE
BEGIN:VEVENT
DTSTART;TZID=UTC:20251226T183000
DTEND;TZID=UTC:20251226T233000
DTSTAMP:20260420T205136
CREATED:20241021T004145Z
LAST-MODIFIED:20251226T184606Z
UID:1618-1766773800-1766791800@aawpro.com
SUMMARY:Windy City Classic XX
DESCRIPTION:AAW Pro Wrestling\npresents\nThe Windy City Classic XX \nFriday\, December 26th\nBerwyn Eagles Club\n6309 26th St.\nBerwyn\, IL \n6:45pm – Doors Open\n7:00pm – ALIVE Taping\n7:30pm – The Windy City Classic XX \nFront Row – $50\n2nd Row – $35\n3rd Row – $30\nGeneral Admission/Standing Room – $20\nTickets at aawpro.ticketleap.com \nFeaturing: \nAAW Tag Team Championship Match\nThe Good Brothers vs. The Hellhounds \nShazza McKenzie vs. John E Bravo \nPlus:\nAAW Heavyweight Champion: Trevor Lee\nAAW Women’s Champion: Maggie Lee\nAAW Heritage Champion: Isaiah Moore\nThe AAW return of Rich Swann\nJoe Alonzo w/ Donovan Marcelous\nThe Besties in the World: Davey Vega/Mat Fitchett\nRobert “Ego” Anthony\n“Uncle T” Solomon Tupu\nStallion Rogers\nRafael Quintero\nTwist & Flip\nSean Logan\nBruss Hamilton \nMore To Be Announced\nCard Subject To Change
URL:https://aawpro.com/event/windy-city-classic-xx
LOCATION:Berwyn Eagles Club\, 6309 26th St\, Berwyn\, Illinois\, 60402\, United States
ATTACH;FMTTYPE=image/jpeg:https://aawpro.com/wp-content/uploads/2024/10/20251226_WCCXX_Poster-scaled.jpg
END:VEVENT
END:VCALENDAR