BEGIN:VCALENDAR
VERSION:2.0
PRODID:-//AAW Pro - ECPv6.15.18//NONSGML v1.0//EN
CALSCALE:GREGORIAN
METHOD:PUBLISH
X-ORIGINAL-URL:https://aawpro.com
X-WR-CALDESC:Events for AAW Pro
REFRESH-INTERVAL;VALUE=DURATION:PT1H
X-Robots-Tag:noindex
X-PUBLISHED-TTL:PT1H
BEGIN:VTIMEZONE
TZID:UTC
BEGIN:STANDARD
TZOFFSETFROM:+0000
TZOFFSETTO:+0000
TZNAME:UTC
DTSTART:20240101T000000
END:STANDARD
END:VTIMEZONE
BEGIN:VEVENT
DTSTART;TZID=UTC:20250913T183000
DTEND;TZID=UTC:20250913T233000
DTSTAMP:20260421T012616
CREATED:20241021T003321Z
LAST-MODIFIED:20250910T042926Z
UID:1612-1757788200-1757806200@aawpro.com
SUMMARY:A Bond Of Hate
DESCRIPTION:
URL:https://aawpro.com/event/a-bond-of-hate
LOCATION:Berwyn Eagles Club\, 6309 26th St\, Berwyn\, Illinois\, 60402\, United States
ATTACH;FMTTYPE=image/jpeg:https://aawpro.com/wp-content/uploads/2024/10/09132025_ABOH-2025_Poster-scaled.jpg
END:VEVENT
END:VCALENDAR